BEGIN:VCALENDAR
VERSION:2.0
PRODID:-//Lubbock Interagency Adoption Council - ECPv6.15.20//NONSGML v1.0//EN
CALSCALE:GREGORIAN
METHOD:PUBLISH
X-WR-CALNAME:Lubbock Interagency Adoption Council
X-ORIGINAL-URL:https://lubbockadoptioncouncil.org
X-WR-CALDESC:Events for Lubbock Interagency Adoption Council
REFRESH-INTERVAL;VALUE=DURATION:PT1H
X-Robots-Tag:noindex
X-PUBLISHED-TTL:PT1H
BEGIN:VTIMEZONE
TZID:America/Chicago
BEGIN:DAYLIGHT
TZOFFSETFROM:-0600
TZOFFSETTO:-0500
TZNAME:CDT
DTSTART:20230312T080000
END:DAYLIGHT
BEGIN:STANDARD
TZOFFSETFROM:-0500
TZOFFSETTO:-0600
TZNAME:CST
DTSTART:20231105T070000
END:STANDARD
BEGIN:DAYLIGHT
TZOFFSETFROM:-0600
TZOFFSETTO:-0500
TZNAME:CDT
DTSTART:20240310T080000
END:DAYLIGHT
BEGIN:STANDARD
TZOFFSETFROM:-0500
TZOFFSETTO:-0600
TZNAME:CST
DTSTART:20241103T070000
END:STANDARD
BEGIN:DAYLIGHT
TZOFFSETFROM:-0600
TZOFFSETTO:-0500
TZNAME:CDT
DTSTART:20250309T080000
END:DAYLIGHT
BEGIN:STANDARD
TZOFFSETFROM:-0500
TZOFFSETTO:-0600
TZNAME:CST
DTSTART:20251102T070000
END:STANDARD
END:VTIMEZONE
BEGIN:VEVENT
DTSTART;TZID=America/Chicago:20240501T080000
DTEND;TZID=America/Chicago:20240501T170000
DTSTAMP:20260423T165348
CREATED:20240325T185943Z
LAST-MODIFIED:20240325T191014Z
UID:448-1714550400-1714582800@lubbockadoptioncouncil.org
SUMMARY:Hope for the Journey 2024
DESCRIPTION:Join Us at the Annual Hope for the Journey Conference!\nBrought to you in 2024 by Buckner Children and Family Services\, Catholic Charities\, and Saint Francis Ministries. \nWhen: May 1\, 2024 – 8:00 a.m. to 5:00 p.m.\nWhere: HQ Plaza (1st floor meeting rooms) – 5307 W Loop 289\, Lubbock\, TX 79414\nMeals Provided: Breakfast\, Lunch\, and afternoon snack \nAbout:\nChildren navigating the journey of adoption and foster care often carry unique needs. The Hope for the Journey Conference is your gateway to a wealth of knowledge\, understanding\, and practical tools to help support children\, parents\, and families in your community. \nJoin us on May 1\, 2024\, as we stream this conference live for the Lubbock Community! \nThe Hope for the Journey Conference is an amazing opportunity for you to support individuals\, parents\, and families in your community\, and with training hours for adoptive and/or foster care parents\, it is a practical way to serve those within your sphere of influence. \nLIMIT: Attendance is limited to 100 people. The first 50 people to register will receive a workbook companion for the conference. \nLearn more about the conference at Hope for the Journey Conference — Presented by Show Hope. \nRegister:\nLoading…
URL:https://lubbockadoptioncouncil.org/event/hope-for-the-journey-2024/
LOCATION:HQ Plaza\, 5307 W Loop 289\, Lubbock\, TX\, 79414
ATTACH;FMTTYPE=image/jpeg:https://lubbockadoptioncouncil.org/wp-content/uploads/2024/03/HFTJ_EmailHeaderImage-1536x512-1.jpg
END:VEVENT
END:VCALENDAR