BEGIN:VCALENDAR
VERSION:2.0
PRODID:-//Lubbock Interagency Adoption Council - ECPv6.15.20//NONSGML v1.0//EN
CALSCALE:GREGORIAN
METHOD:PUBLISH
X-ORIGINAL-URL:https://lubbockadoptioncouncil.org
X-WR-CALDESC:Events for Lubbock Interagency Adoption Council
REFRESH-INTERVAL;VALUE=DURATION:PT1H
X-Robots-Tag:noindex
X-PUBLISHED-TTL:PT1H
BEGIN:VTIMEZONE
TZID:America/Chicago
BEGIN:DAYLIGHT
TZOFFSETFROM:-0600
TZOFFSETTO:-0500
TZNAME:CDT
DTSTART:20230312T080000
END:DAYLIGHT
BEGIN:STANDARD
TZOFFSETFROM:-0500
TZOFFSETTO:-0600
TZNAME:CST
DTSTART:20231105T070000
END:STANDARD
BEGIN:DAYLIGHT
TZOFFSETFROM:-0600
TZOFFSETTO:-0500
TZNAME:CDT
DTSTART:20240310T080000
END:DAYLIGHT
BEGIN:STANDARD
TZOFFSETFROM:-0500
TZOFFSETTO:-0600
TZNAME:CST
DTSTART:20241103T070000
END:STANDARD
BEGIN:DAYLIGHT
TZOFFSETFROM:-0600
TZOFFSETTO:-0500
TZNAME:CDT
DTSTART:20250309T080000
END:DAYLIGHT
BEGIN:STANDARD
TZOFFSETFROM:-0500
TZOFFSETTO:-0600
TZNAME:CST
DTSTART:20251102T070000
END:STANDARD
END:VTIMEZONE
BEGIN:VEVENT
DTSTART;TZID=America/Chicago:20240503T183000
DTEND;TZID=America/Chicago:20240503T203000
DTSTAMP:20260423T165515
CREATED:20240218T002123Z
LAST-MODIFIED:20240322T232711Z
UID:87-1714761000-1714768200@lubbockadoptioncouncil.org
SUMMARY:Foster Parent Appreciation
DESCRIPTION:Calling all active foster parents of the Lubbock and surrounding areas\, please join LIAC and its member agencies as we celebrate you with a night of food\, fellowship\, awards\, and door prizes. \nChild Care\nTime: 6:00 – 9:00 p.m.\nLocation: Various\, TBD \nChild care will be provided through various churches across town\, organized by One Heart’s Foster Parent Night Out. \nThe churches providing child care for this event will provide dinner and activities for the children during this time. \nRegister here: https://lubbockadoptioncouncil.org/foster-parent-appreciation-event/ \nSponsors\n\nChild Placing Agencies\n\nArrow\nBair\nBuckner\nChildren’s Home of Lubbock\nChildren’s Hope\nDepelchin\nNational Youth Advocate Program\nSaint Francis Ministries\nTexas Girls and Boys Ranch\nTexas Family Initiative\nUpbring\n\n\nLocal Nonprofits\n\nOne Heart\nFoster A Life\nGethsemane Foster Initiative\nCaleb’s Closet\n\n\nChurches\n\nTrinity Fellowship\nHighland\nGreenlawn Church of Christ\nSouthcrest Baptist Church\nThe City Church\nMontery Church of Christ
URL:https://lubbockadoptioncouncil.org/event/foster-parent-appreciation/
LOCATION:Trinity Fellowship\, 10326 Upland Ave\, Lubbock\, TX\, 79424\, United States
ATTACH;FMTTYPE=image/jpeg:https://lubbockadoptioncouncil.org/wp-content/uploads/2024/02/FPAD2024-LIAC-1-scaled.jpg
END:VEVENT
END:VCALENDAR