BEGIN:VCALENDAR
VERSION:2.0
PRODID:-//Lubbock Interagency Adoption Council - ECPv6.15.20//NONSGML v1.0//EN
CALSCALE:GREGORIAN
METHOD:PUBLISH
X-ORIGINAL-URL:https://lubbockadoptioncouncil.org
X-WR-CALDESC:Events for Lubbock Interagency Adoption Council
REFRESH-INTERVAL;VALUE=DURATION:PT1H
X-Robots-Tag:noindex
X-PUBLISHED-TTL:PT1H
BEGIN:VTIMEZONE
TZID:America/Chicago
BEGIN:DAYLIGHT
TZOFFSETFROM:-0600
TZOFFSETTO:-0500
TZNAME:CDT
DTSTART:20230312T080000
END:DAYLIGHT
BEGIN:STANDARD
TZOFFSETFROM:-0500
TZOFFSETTO:-0600
TZNAME:CST
DTSTART:20231105T070000
END:STANDARD
BEGIN:DAYLIGHT
TZOFFSETFROM:-0600
TZOFFSETTO:-0500
TZNAME:CDT
DTSTART:20240310T080000
END:DAYLIGHT
BEGIN:STANDARD
TZOFFSETFROM:-0500
TZOFFSETTO:-0600
TZNAME:CST
DTSTART:20241103T070000
END:STANDARD
BEGIN:DAYLIGHT
TZOFFSETFROM:-0600
TZOFFSETTO:-0500
TZNAME:CDT
DTSTART:20250309T080000
END:DAYLIGHT
BEGIN:STANDARD
TZOFFSETFROM:-0500
TZOFFSETTO:-0600
TZNAME:CST
DTSTART:20251102T070000
END:STANDARD
END:VTIMEZONE
BEGIN:VEVENT
DTSTART;TZID=America/Chicago:20240615T090000
DTEND;TZID=America/Chicago:20240615T140000
DTSTAMP:20260423T202337
CREATED:20240219T232320Z
LAST-MODIFIED:20240220T001127Z
UID:261-1718442000-1718460000@lubbockadoptioncouncil.org
SUMMARY:Buckner Prepare to Care Training
DESCRIPTION:Buckner will begin a new Pre-Service Training class on June 15\, 2024. To register\, please contact Stephanie Calderon scalderon@buckner.org. \n\n\n\nPrepare to Care\n\n\n\nDay 1: Saturday\, June 15\, 2024 (9am-2pm)Day 2: Tuesday\, June 18\, 2024 (6-9pm)Day 3: Thursday\, June 20\, 2024 (6-9pm)
URL:https://lubbockadoptioncouncil.org/event/buckner-prepare-to-care-training-06-15-2024/
LOCATION:HQ Plaza\, 5307 W Loop 289\, Lubbock\, TX\, 79414
CATEGORIES:Training Dates
ORGANIZER;CN="Buckner":MAILTO:nlocker@buckner.org
END:VEVENT
END:VCALENDAR