BEGIN:VCALENDAR
VERSION:2.0
PRODID:-//Lubbock Interagency Adoption Council - ECPv6.15.20//NONSGML v1.0//EN
CALSCALE:GREGORIAN
METHOD:PUBLISH
X-WR-CALNAME:Lubbock Interagency Adoption Council
X-ORIGINAL-URL:https://lubbockadoptioncouncil.org
X-WR-CALDESC:Events for Lubbock Interagency Adoption Council
REFRESH-INTERVAL;VALUE=DURATION:PT1H
X-Robots-Tag:noindex
X-PUBLISHED-TTL:PT1H
BEGIN:VTIMEZONE
TZID:America/Chicago
BEGIN:DAYLIGHT
TZOFFSETFROM:-0600
TZOFFSETTO:-0500
TZNAME:CDT
DTSTART:20230312T080000
END:DAYLIGHT
BEGIN:STANDARD
TZOFFSETFROM:-0500
TZOFFSETTO:-0600
TZNAME:CST
DTSTART:20231105T070000
END:STANDARD
BEGIN:DAYLIGHT
TZOFFSETFROM:-0600
TZOFFSETTO:-0500
TZNAME:CDT
DTSTART:20240310T080000
END:DAYLIGHT
BEGIN:STANDARD
TZOFFSETFROM:-0500
TZOFFSETTO:-0600
TZNAME:CST
DTSTART:20241103T070000
END:STANDARD
BEGIN:DAYLIGHT
TZOFFSETFROM:-0600
TZOFFSETTO:-0500
TZNAME:CDT
DTSTART:20250309T080000
END:DAYLIGHT
BEGIN:STANDARD
TZOFFSETFROM:-0500
TZOFFSETTO:-0600
TZNAME:CST
DTSTART:20251102T070000
END:STANDARD
END:VTIMEZONE
BEGIN:VEVENT
DTSTART;TZID=America/Chicago:20241027T140000
DTEND;TZID=America/Chicago:20241027T220000
DTSTAMP:20260424T025129
CREATED:20240910T225626Z
LAST-MODIFIED:20240911T143441Z
UID:488-1730037600-1730066400@lubbockadoptioncouncil.org
SUMMARY:Foster Parent Appreciation - Fall 2024
DESCRIPTION:The Lubbock Inter-Agency Adoption Council (LIAC) is hosting a Foster Parent Appreciation Event this Fall at the Corn Maze at At’l Do Farms. Bring your family out to enjoy the maze and fairy tail trail\, cow train\, pumpkin patch hayride\, barnyard\, and sunflowers. LIAC will cover the cost of entry\, and we can’t wait to see you there! \nRegister:\nComplete this form to register letting us know you plan to attend!
URL:https://lubbockadoptioncouncil.org/event/foster-parent-appreciation-fall-2024/
LOCATION:At’l Do Farms\, 6323 FM 1294\, Lubbock\, TX\, 79415
ATTACH;FMTTYPE=image/jpeg:https://lubbockadoptioncouncil.org/wp-content/uploads/2024/09/LIAC-FPA-Fall-2024.jpg
END:VEVENT
END:VCALENDAR