BEGIN:VCALENDAR
VERSION:2.0
PRODID:-//Lubbock Interagency Adoption Council - ECPv6.15.20//NONSGML v1.0//EN
CALSCALE:GREGORIAN
METHOD:PUBLISH
X-ORIGINAL-URL:https://lubbockadoptioncouncil.org
X-WR-CALDESC:Events for Lubbock Interagency Adoption Council
REFRESH-INTERVAL;VALUE=DURATION:PT1H
X-Robots-Tag:noindex
X-PUBLISHED-TTL:PT1H
BEGIN:VTIMEZONE
TZID:America/Chicago
BEGIN:DAYLIGHT
TZOFFSETFROM:-0600
TZOFFSETTO:-0500
TZNAME:CDT
DTSTART:20230312T080000
END:DAYLIGHT
BEGIN:STANDARD
TZOFFSETFROM:-0500
TZOFFSETTO:-0600
TZNAME:CST
DTSTART:20231105T070000
END:STANDARD
BEGIN:DAYLIGHT
TZOFFSETFROM:-0600
TZOFFSETTO:-0500
TZNAME:CDT
DTSTART:20240310T080000
END:DAYLIGHT
BEGIN:STANDARD
TZOFFSETFROM:-0500
TZOFFSETTO:-0600
TZNAME:CST
DTSTART:20241103T070000
END:STANDARD
BEGIN:DAYLIGHT
TZOFFSETFROM:-0600
TZOFFSETTO:-0500
TZNAME:CDT
DTSTART:20250309T080000
END:DAYLIGHT
BEGIN:STANDARD
TZOFFSETFROM:-0500
TZOFFSETTO:-0600
TZNAME:CST
DTSTART:20251102T070000
END:STANDARD
BEGIN:DAYLIGHT
TZOFFSETFROM:-0600
TZOFFSETTO:-0500
TZNAME:CDT
DTSTART:20260308T080000
END:DAYLIGHT
BEGIN:STANDARD
TZOFFSETFROM:-0500
TZOFFSETTO:-0600
TZNAME:CST
DTSTART:20261101T070000
END:STANDARD
BEGIN:DAYLIGHT
TZOFFSETFROM:-0600
TZOFFSETTO:-0500
TZNAME:CDT
DTSTART:20270314T080000
END:DAYLIGHT
BEGIN:STANDARD
TZOFFSETFROM:-0500
TZOFFSETTO:-0600
TZNAME:CST
DTSTART:20271107T070000
END:STANDARD
END:VTIMEZONE
BEGIN:VEVENT
DTSTART;TZID=America/Chicago:20260501T183000
DTEND;TZID=America/Chicago:20260501T203000
DTSTAMP:20260423T181923
CREATED:20260302T233439Z
LAST-MODIFIED:20260325T234553Z
UID:583-1777660200-1777667400@lubbockadoptioncouncil.org
SUMMARY:Foster Parent Appreciation Event 2026
DESCRIPTION:Join us for an evening of celebration and gratitude at Foster Parent Appreciation 2026! \n Date: Friday\, May 1\, 2026\n Time: 6:30 – 8:30 p.m. (doors open at 6:00 p.m.)\n Location: Trinity Fellowship\, 10326 Upland Ave\, Lubbock\, TX 79424 \nFoster families play a vital role in the lives of Lubbock’s foster children\, and this special night is dedicated to honoring and appreciating all you do! Come enjoy a delicious barbecue dinner\, exciting door prizes\, and a heartwarming awards ceremony recognizing outstanding caregivers in our community. \nChild care is available from 6:00 – 9:00 p.m. on the night of the event through One Heart’s Foster Parent Night Out\, hosted at various churches in the Lubbock community\, so you can relax and enjoy the evening. \n This is our way of saying THANK YOU for your love\, dedication\, and commitment to Lubbock’s children.  \nRSVP today and let’s celebrate together! \nSupport the Celebration – Donate Today!\nWe welcome support from individuals and businesses who want to help make this event extra special! Charitable\, gift-in-kind donations are greatly appreciated. Items we are seeking include: \n\nDoor Prizes (family-friendly items\, gift baskets\, experiences\, gift cards)\nDesserts\nDrinks (tea\, lemonade\, water)\nPlates\, utensils\, napkins\, cups\nGift cards for 15 Award Ceremony Winners\nWe welcome Thank You notes to foster families from Churches or Volunteer Groups!\n\nA W9 is available upon request for donation purposes. If you or your business would like to contribute\, please contact Nicky Locker at nlocker@buckner.org. \nMake a monetary donation \nThank you for helping us show appreciation to the incredible foster\, adoptive\, and kinship families in our community!
URL:https://lubbockadoptioncouncil.org/event/foster-parent-appreciation-event-2026/
LOCATION:Trinity Fellowship\, 10326 Upland Ave\, Lubbock\, TX\, 79424\, United States
END:VEVENT
BEGIN:VEVENT
DTSTART;TZID=America/Chicago:20240312T140000
DTEND;TZID=America/Chicago:20240312T150000
DTSTAMP:20260423T181923
CREATED:20240218T122139Z
LAST-MODIFIED:20240218T203902Z
UID:148-1710252000-1710255600@lubbockadoptioncouncil.org
SUMMARY:LIAC Member Meeting
DESCRIPTION:Members of LIAC meet monthly on the second Tuesday to share updates and plan for upcoming events. \nMeeting Room A is on the first floor of HQ Plaza.
URL:https://lubbockadoptioncouncil.org/event/liac-member-meeting/
LOCATION:HQ Plaza\, 5307 W Loop 289\, Lubbock\, TX\, 79414
CATEGORIES:LIAC Member Meetings
ATTACH;FMTTYPE=image/jpeg:https://lubbockadoptioncouncil.org/wp-content/uploads/2024/02/LIAC-Member-Meeting.jpg
END:VEVENT
BEGIN:VEVENT
DTSTART;TZID=America/Chicago:20240312T140000
DTEND;TZID=America/Chicago:20240312T150000
DTSTAMP:20260423T181923
CREATED:20240218T122139Z
LAST-MODIFIED:20240218T203902Z
UID:148-1710252000-1710255600@lubbockadoptioncouncil.org
SUMMARY:LIAC Member Meeting
DESCRIPTION:Members of LIAC meet monthly on the second Tuesday to share updates and plan for upcoming events. \nMeeting Room A is on the first floor of HQ Plaza.
URL:https://lubbockadoptioncouncil.org/event/liac-member-meeting/
LOCATION:HQ Plaza\, 5307 W Loop 289\, Lubbock\, TX\, 79414
CATEGORIES:LIAC Member Meetings
ATTACH;FMTTYPE=image/jpeg:https://lubbockadoptioncouncil.org/wp-content/uploads/2024/02/LIAC-Member-Meeting.jpg
END:VEVENT
BEGIN:VEVENT
DTSTART;TZID=America/Chicago:20240312T140000
DTEND;TZID=America/Chicago:20240312T150000
DTSTAMP:20260423T181923
CREATED:20240218T122139Z
LAST-MODIFIED:20240218T203902Z
UID:148-1710252000-1710255600@lubbockadoptioncouncil.org
SUMMARY:LIAC Member Meeting
DESCRIPTION:Members of LIAC meet monthly on the second Tuesday to share updates and plan for upcoming events. \nMeeting Room A is on the first floor of HQ Plaza.
URL:https://lubbockadoptioncouncil.org/event/liac-member-meeting/
LOCATION:HQ Plaza\, 5307 W Loop 289\, Lubbock\, TX\, 79414
CATEGORIES:LIAC Member Meetings
ATTACH;FMTTYPE=image/jpeg:https://lubbockadoptioncouncil.org/wp-content/uploads/2024/02/LIAC-Member-Meeting.jpg
END:VEVENT
BEGIN:VEVENT
DTSTART;TZID=America/Chicago:20240312T140000
DTEND;TZID=America/Chicago:20240312T150000
DTSTAMP:20260423T181923
CREATED:20240218T122139Z
LAST-MODIFIED:20240218T203902Z
UID:148-1710252000-1710255600@lubbockadoptioncouncil.org
SUMMARY:LIAC Member Meeting
DESCRIPTION:Members of LIAC meet monthly on the second Tuesday to share updates and plan for upcoming events. \nMeeting Room A is on the first floor of HQ Plaza.
URL:https://lubbockadoptioncouncil.org/event/liac-member-meeting/
LOCATION:HQ Plaza\, 5307 W Loop 289\, Lubbock\, TX\, 79414
CATEGORIES:LIAC Member Meetings
ATTACH;FMTTYPE=image/jpeg:https://lubbockadoptioncouncil.org/wp-content/uploads/2024/02/LIAC-Member-Meeting.jpg
END:VEVENT
BEGIN:VEVENT
DTSTART;TZID=America/Chicago:20240312T140000
DTEND;TZID=America/Chicago:20240312T150000
DTSTAMP:20260423T181923
CREATED:20240218T122139Z
LAST-MODIFIED:20240218T203902Z
UID:148-1710252000-1710255600@lubbockadoptioncouncil.org
SUMMARY:LIAC Member Meeting
DESCRIPTION:Members of LIAC meet monthly on the second Tuesday to share updates and plan for upcoming events. \nMeeting Room A is on the first floor of HQ Plaza.
URL:https://lubbockadoptioncouncil.org/event/liac-member-meeting/
LOCATION:HQ Plaza\, 5307 W Loop 289\, Lubbock\, TX\, 79414
CATEGORIES:LIAC Member Meetings
ATTACH;FMTTYPE=image/jpeg:https://lubbockadoptioncouncil.org/wp-content/uploads/2024/02/LIAC-Member-Meeting.jpg
END:VEVENT
BEGIN:VEVENT
DTSTART;TZID=America/Chicago:20240312T140000
DTEND;TZID=America/Chicago:20240312T150000
DTSTAMP:20260423T181923
CREATED:20240218T122139Z
LAST-MODIFIED:20240218T203902Z
UID:148-1710252000-1710255600@lubbockadoptioncouncil.org
SUMMARY:LIAC Member Meeting
DESCRIPTION:Members of LIAC meet monthly on the second Tuesday to share updates and plan for upcoming events. \nMeeting Room A is on the first floor of HQ Plaza.
URL:https://lubbockadoptioncouncil.org/event/liac-member-meeting/
LOCATION:HQ Plaza\, 5307 W Loop 289\, Lubbock\, TX\, 79414
CATEGORIES:LIAC Member Meetings
ATTACH;FMTTYPE=image/jpeg:https://lubbockadoptioncouncil.org/wp-content/uploads/2024/02/LIAC-Member-Meeting.jpg
END:VEVENT
BEGIN:VEVENT
DTSTART;TZID=America/Chicago:20240312T140000
DTEND;TZID=America/Chicago:20240312T150000
DTSTAMP:20260423T181923
CREATED:20240218T122139Z
LAST-MODIFIED:20240218T203902Z
UID:148-1710252000-1710255600@lubbockadoptioncouncil.org
SUMMARY:LIAC Member Meeting
DESCRIPTION:Members of LIAC meet monthly on the second Tuesday to share updates and plan for upcoming events. \nMeeting Room A is on the first floor of HQ Plaza.
URL:https://lubbockadoptioncouncil.org/event/liac-member-meeting/
LOCATION:HQ Plaza\, 5307 W Loop 289\, Lubbock\, TX\, 79414
CATEGORIES:LIAC Member Meetings
ATTACH;FMTTYPE=image/jpeg:https://lubbockadoptioncouncil.org/wp-content/uploads/2024/02/LIAC-Member-Meeting.jpg
END:VEVENT
BEGIN:VEVENT
DTSTART;TZID=America/Chicago:20240312T140000
DTEND;TZID=America/Chicago:20240312T150000
DTSTAMP:20260423T181923
CREATED:20240218T122139Z
LAST-MODIFIED:20240218T203902Z
UID:148-1710252000-1710255600@lubbockadoptioncouncil.org
SUMMARY:LIAC Member Meeting
DESCRIPTION:Members of LIAC meet monthly on the second Tuesday to share updates and plan for upcoming events. \nMeeting Room A is on the first floor of HQ Plaza.
URL:https://lubbockadoptioncouncil.org/event/liac-member-meeting/
LOCATION:HQ Plaza\, 5307 W Loop 289\, Lubbock\, TX\, 79414
CATEGORIES:LIAC Member Meetings
ATTACH;FMTTYPE=image/jpeg:https://lubbockadoptioncouncil.org/wp-content/uploads/2024/02/LIAC-Member-Meeting.jpg
END:VEVENT
BEGIN:VEVENT
DTSTART;TZID=America/Chicago:20240312T140000
DTEND;TZID=America/Chicago:20240312T150000
DTSTAMP:20260423T181923
CREATED:20240218T122139Z
LAST-MODIFIED:20240218T203902Z
UID:148-1710252000-1710255600@lubbockadoptioncouncil.org
SUMMARY:LIAC Member Meeting
DESCRIPTION:Members of LIAC meet monthly on the second Tuesday to share updates and plan for upcoming events. \nMeeting Room A is on the first floor of HQ Plaza.
URL:https://lubbockadoptioncouncil.org/event/liac-member-meeting/
LOCATION:HQ Plaza\, 5307 W Loop 289\, Lubbock\, TX\, 79414
CATEGORIES:LIAC Member Meetings
ATTACH;FMTTYPE=image/jpeg:https://lubbockadoptioncouncil.org/wp-content/uploads/2024/02/LIAC-Member-Meeting.jpg
END:VEVENT
BEGIN:VEVENT
DTSTART;TZID=America/Chicago:20240312T140000
DTEND;TZID=America/Chicago:20240312T150000
DTSTAMP:20260423T181923
CREATED:20240218T122139Z
LAST-MODIFIED:20240218T203902Z
UID:148-1710252000-1710255600@lubbockadoptioncouncil.org
SUMMARY:LIAC Member Meeting
DESCRIPTION:Members of LIAC meet monthly on the second Tuesday to share updates and plan for upcoming events. \nMeeting Room A is on the first floor of HQ Plaza.
URL:https://lubbockadoptioncouncil.org/event/liac-member-meeting/
LOCATION:HQ Plaza\, 5307 W Loop 289\, Lubbock\, TX\, 79414
CATEGORIES:LIAC Member Meetings
ATTACH;FMTTYPE=image/jpeg:https://lubbockadoptioncouncil.org/wp-content/uploads/2024/02/LIAC-Member-Meeting.jpg
END:VEVENT
BEGIN:VEVENT
DTSTART;TZID=America/Chicago:20240312T140000
DTEND;TZID=America/Chicago:20240312T150000
DTSTAMP:20260423T181923
CREATED:20240218T122139Z
LAST-MODIFIED:20240218T203902Z
UID:148-1710252000-1710255600@lubbockadoptioncouncil.org
SUMMARY:LIAC Member Meeting
DESCRIPTION:Members of LIAC meet monthly on the second Tuesday to share updates and plan for upcoming events. \nMeeting Room A is on the first floor of HQ Plaza.
URL:https://lubbockadoptioncouncil.org/event/liac-member-meeting/
LOCATION:HQ Plaza\, 5307 W Loop 289\, Lubbock\, TX\, 79414
CATEGORIES:LIAC Member Meetings
ATTACH;FMTTYPE=image/jpeg:https://lubbockadoptioncouncil.org/wp-content/uploads/2024/02/LIAC-Member-Meeting.jpg
END:VEVENT
BEGIN:VEVENT
DTSTART;TZID=America/Chicago:20240312T140000
DTEND;TZID=America/Chicago:20240312T150000
DTSTAMP:20260423T181923
CREATED:20240218T122139Z
LAST-MODIFIED:20240218T203902Z
UID:148-1710252000-1710255600@lubbockadoptioncouncil.org
SUMMARY:LIAC Member Meeting
DESCRIPTION:Members of LIAC meet monthly on the second Tuesday to share updates and plan for upcoming events. \nMeeting Room A is on the first floor of HQ Plaza.
URL:https://lubbockadoptioncouncil.org/event/liac-member-meeting/
LOCATION:HQ Plaza\, 5307 W Loop 289\, Lubbock\, TX\, 79414
CATEGORIES:LIAC Member Meetings
ATTACH;FMTTYPE=image/jpeg:https://lubbockadoptioncouncil.org/wp-content/uploads/2024/02/LIAC-Member-Meeting.jpg
END:VEVENT
BEGIN:VEVENT
DTSTART;TZID=America/Chicago:20240312T140000
DTEND;TZID=America/Chicago:20240312T150000
DTSTAMP:20260423T181923
CREATED:20240218T122139Z
LAST-MODIFIED:20240218T203902Z
UID:148-1710252000-1710255600@lubbockadoptioncouncil.org
SUMMARY:LIAC Member Meeting
DESCRIPTION:Members of LIAC meet monthly on the second Tuesday to share updates and plan for upcoming events. \nMeeting Room A is on the first floor of HQ Plaza.
URL:https://lubbockadoptioncouncil.org/event/liac-member-meeting/
LOCATION:HQ Plaza\, 5307 W Loop 289\, Lubbock\, TX\, 79414
CATEGORIES:LIAC Member Meetings
ATTACH;FMTTYPE=image/jpeg:https://lubbockadoptioncouncil.org/wp-content/uploads/2024/02/LIAC-Member-Meeting.jpg
END:VEVENT
BEGIN:VEVENT
DTSTART;TZID=America/Chicago:20240312T140000
DTEND;TZID=America/Chicago:20240312T150000
DTSTAMP:20260423T181923
CREATED:20240218T122139Z
LAST-MODIFIED:20240218T203902Z
UID:148-1710252000-1710255600@lubbockadoptioncouncil.org
SUMMARY:LIAC Member Meeting
DESCRIPTION:Members of LIAC meet monthly on the second Tuesday to share updates and plan for upcoming events. \nMeeting Room A is on the first floor of HQ Plaza.
URL:https://lubbockadoptioncouncil.org/event/liac-member-meeting/
LOCATION:HQ Plaza\, 5307 W Loop 289\, Lubbock\, TX\, 79414
CATEGORIES:LIAC Member Meetings
ATTACH;FMTTYPE=image/jpeg:https://lubbockadoptioncouncil.org/wp-content/uploads/2024/02/LIAC-Member-Meeting.jpg
END:VEVENT
BEGIN:VEVENT
DTSTART;TZID=America/Chicago:20240312T140000
DTEND;TZID=America/Chicago:20240312T150000
DTSTAMP:20260423T181923
CREATED:20240218T122139Z
LAST-MODIFIED:20240218T203902Z
UID:148-1710252000-1710255600@lubbockadoptioncouncil.org
SUMMARY:LIAC Member Meeting
DESCRIPTION:Members of LIAC meet monthly on the second Tuesday to share updates and plan for upcoming events. \nMeeting Room A is on the first floor of HQ Plaza.
URL:https://lubbockadoptioncouncil.org/event/liac-member-meeting/
LOCATION:HQ Plaza\, 5307 W Loop 289\, Lubbock\, TX\, 79414
CATEGORIES:LIAC Member Meetings
ATTACH;FMTTYPE=image/jpeg:https://lubbockadoptioncouncil.org/wp-content/uploads/2024/02/LIAC-Member-Meeting.jpg
END:VEVENT
BEGIN:VEVENT
DTSTART;TZID=America/Chicago:20240312T140000
DTEND;TZID=America/Chicago:20240312T150000
DTSTAMP:20260423T181923
CREATED:20240218T122139Z
LAST-MODIFIED:20240218T203902Z
UID:148-1710252000-1710255600@lubbockadoptioncouncil.org
SUMMARY:LIAC Member Meeting
DESCRIPTION:Members of LIAC meet monthly on the second Tuesday to share updates and plan for upcoming events. \nMeeting Room A is on the first floor of HQ Plaza.
URL:https://lubbockadoptioncouncil.org/event/liac-member-meeting/
LOCATION:HQ Plaza\, 5307 W Loop 289\, Lubbock\, TX\, 79414
CATEGORIES:LIAC Member Meetings
ATTACH;FMTTYPE=image/jpeg:https://lubbockadoptioncouncil.org/wp-content/uploads/2024/02/LIAC-Member-Meeting.jpg
END:VEVENT
BEGIN:VEVENT
DTSTART;TZID=America/Chicago:20240312T140000
DTEND;TZID=America/Chicago:20240312T150000
DTSTAMP:20260423T181923
CREATED:20240218T122139Z
LAST-MODIFIED:20240218T203902Z
UID:148-1710252000-1710255600@lubbockadoptioncouncil.org
SUMMARY:LIAC Member Meeting
DESCRIPTION:Members of LIAC meet monthly on the second Tuesday to share updates and plan for upcoming events. \nMeeting Room A is on the first floor of HQ Plaza.
URL:https://lubbockadoptioncouncil.org/event/liac-member-meeting/
LOCATION:HQ Plaza\, 5307 W Loop 289\, Lubbock\, TX\, 79414
CATEGORIES:LIAC Member Meetings
ATTACH;FMTTYPE=image/jpeg:https://lubbockadoptioncouncil.org/wp-content/uploads/2024/02/LIAC-Member-Meeting.jpg
END:VEVENT
BEGIN:VEVENT
DTSTART;TZID=America/Chicago:20240312T140000
DTEND;TZID=America/Chicago:20240312T150000
DTSTAMP:20260423T181923
CREATED:20240218T122139Z
LAST-MODIFIED:20240218T203902Z
UID:148-1710252000-1710255600@lubbockadoptioncouncil.org
SUMMARY:LIAC Member Meeting
DESCRIPTION:Members of LIAC meet monthly on the second Tuesday to share updates and plan for upcoming events. \nMeeting Room A is on the first floor of HQ Plaza.
URL:https://lubbockadoptioncouncil.org/event/liac-member-meeting/
LOCATION:HQ Plaza\, 5307 W Loop 289\, Lubbock\, TX\, 79414
CATEGORIES:LIAC Member Meetings
ATTACH;FMTTYPE=image/jpeg:https://lubbockadoptioncouncil.org/wp-content/uploads/2024/02/LIAC-Member-Meeting.jpg
END:VEVENT
BEGIN:VEVENT
DTSTART;TZID=America/Chicago:20240312T140000
DTEND;TZID=America/Chicago:20240312T150000
DTSTAMP:20260423T181923
CREATED:20240218T122139Z
LAST-MODIFIED:20240218T203902Z
UID:148-1710252000-1710255600@lubbockadoptioncouncil.org
SUMMARY:LIAC Member Meeting
DESCRIPTION:Members of LIAC meet monthly on the second Tuesday to share updates and plan for upcoming events. \nMeeting Room A is on the first floor of HQ Plaza.
URL:https://lubbockadoptioncouncil.org/event/liac-member-meeting/
LOCATION:HQ Plaza\, 5307 W Loop 289\, Lubbock\, TX\, 79414
CATEGORIES:LIAC Member Meetings
ATTACH;FMTTYPE=image/jpeg:https://lubbockadoptioncouncil.org/wp-content/uploads/2024/02/LIAC-Member-Meeting.jpg
END:VEVENT
BEGIN:VEVENT
DTSTART;TZID=America/Chicago:20240312T140000
DTEND;TZID=America/Chicago:20240312T150000
DTSTAMP:20260423T181923
CREATED:20240218T122139Z
LAST-MODIFIED:20240218T203902Z
UID:148-1710252000-1710255600@lubbockadoptioncouncil.org
SUMMARY:LIAC Member Meeting
DESCRIPTION:Members of LIAC meet monthly on the second Tuesday to share updates and plan for upcoming events. \nMeeting Room A is on the first floor of HQ Plaza.
URL:https://lubbockadoptioncouncil.org/event/liac-member-meeting/
LOCATION:HQ Plaza\, 5307 W Loop 289\, Lubbock\, TX\, 79414
CATEGORIES:LIAC Member Meetings
ATTACH;FMTTYPE=image/jpeg:https://lubbockadoptioncouncil.org/wp-content/uploads/2024/02/LIAC-Member-Meeting.jpg
END:VEVENT
BEGIN:VEVENT
DTSTART;TZID=America/Chicago:20240312T140000
DTEND;TZID=America/Chicago:20240312T150000
DTSTAMP:20260423T181923
CREATED:20240218T122139Z
LAST-MODIFIED:20240218T203902Z
UID:148-1710252000-1710255600@lubbockadoptioncouncil.org
SUMMARY:LIAC Member Meeting
DESCRIPTION:Members of LIAC meet monthly on the second Tuesday to share updates and plan for upcoming events. \nMeeting Room A is on the first floor of HQ Plaza.
URL:https://lubbockadoptioncouncil.org/event/liac-member-meeting/
LOCATION:HQ Plaza\, 5307 W Loop 289\, Lubbock\, TX\, 79414
CATEGORIES:LIAC Member Meetings
ATTACH;FMTTYPE=image/jpeg:https://lubbockadoptioncouncil.org/wp-content/uploads/2024/02/LIAC-Member-Meeting.jpg
END:VEVENT
BEGIN:VEVENT
DTSTART;TZID=America/Chicago:20240312T140000
DTEND;TZID=America/Chicago:20240312T150000
DTSTAMP:20260423T181923
CREATED:20240218T122139Z
LAST-MODIFIED:20240218T203902Z
UID:148-1710252000-1710255600@lubbockadoptioncouncil.org
SUMMARY:LIAC Member Meeting
DESCRIPTION:Members of LIAC meet monthly on the second Tuesday to share updates and plan for upcoming events. \nMeeting Room A is on the first floor of HQ Plaza.
URL:https://lubbockadoptioncouncil.org/event/liac-member-meeting/
LOCATION:HQ Plaza\, 5307 W Loop 289\, Lubbock\, TX\, 79414
CATEGORIES:LIAC Member Meetings
ATTACH;FMTTYPE=image/jpeg:https://lubbockadoptioncouncil.org/wp-content/uploads/2024/02/LIAC-Member-Meeting.jpg
END:VEVENT
BEGIN:VEVENT
DTSTART;TZID=America/Chicago:20240312T140000
DTEND;TZID=America/Chicago:20240312T150000
DTSTAMP:20260423T181923
CREATED:20240218T122139Z
LAST-MODIFIED:20240218T203902Z
UID:148-1710252000-1710255600@lubbockadoptioncouncil.org
SUMMARY:LIAC Member Meeting
DESCRIPTION:Members of LIAC meet monthly on the second Tuesday to share updates and plan for upcoming events. \nMeeting Room A is on the first floor of HQ Plaza.
URL:https://lubbockadoptioncouncil.org/event/liac-member-meeting/
LOCATION:HQ Plaza\, 5307 W Loop 289\, Lubbock\, TX\, 79414
CATEGORIES:LIAC Member Meetings
ATTACH;FMTTYPE=image/jpeg:https://lubbockadoptioncouncil.org/wp-content/uploads/2024/02/LIAC-Member-Meeting.jpg
END:VEVENT
BEGIN:VEVENT
DTSTART;TZID=America/Chicago:20240312T140000
DTEND;TZID=America/Chicago:20240312T150000
DTSTAMP:20260423T181923
CREATED:20240218T122139Z
LAST-MODIFIED:20240218T203902Z
UID:148-1710252000-1710255600@lubbockadoptioncouncil.org
SUMMARY:LIAC Member Meeting
DESCRIPTION:Members of LIAC meet monthly on the second Tuesday to share updates and plan for upcoming events. \nMeeting Room A is on the first floor of HQ Plaza.
URL:https://lubbockadoptioncouncil.org/event/liac-member-meeting/
LOCATION:HQ Plaza\, 5307 W Loop 289\, Lubbock\, TX\, 79414
CATEGORIES:LIAC Member Meetings
ATTACH;FMTTYPE=image/jpeg:https://lubbockadoptioncouncil.org/wp-content/uploads/2024/02/LIAC-Member-Meeting.jpg
END:VEVENT
BEGIN:VEVENT
DTSTART;TZID=America/Chicago:20240312T140000
DTEND;TZID=America/Chicago:20240312T150000
DTSTAMP:20260423T181923
CREATED:20240218T122139Z
LAST-MODIFIED:20240218T203902Z
UID:148-1710252000-1710255600@lubbockadoptioncouncil.org
SUMMARY:LIAC Member Meeting
DESCRIPTION:Members of LIAC meet monthly on the second Tuesday to share updates and plan for upcoming events. \nMeeting Room A is on the first floor of HQ Plaza.
URL:https://lubbockadoptioncouncil.org/event/liac-member-meeting/
LOCATION:HQ Plaza\, 5307 W Loop 289\, Lubbock\, TX\, 79414
CATEGORIES:LIAC Member Meetings
ATTACH;FMTTYPE=image/jpeg:https://lubbockadoptioncouncil.org/wp-content/uploads/2024/02/LIAC-Member-Meeting.jpg
END:VEVENT
BEGIN:VEVENT
DTSTART;TZID=America/Chicago:20240312T140000
DTEND;TZID=America/Chicago:20240312T150000
DTSTAMP:20260423T181923
CREATED:20240218T122139Z
LAST-MODIFIED:20240218T203902Z
UID:148-1710252000-1710255600@lubbockadoptioncouncil.org
SUMMARY:LIAC Member Meeting
DESCRIPTION:Members of LIAC meet monthly on the second Tuesday to share updates and plan for upcoming events. \nMeeting Room A is on the first floor of HQ Plaza.
URL:https://lubbockadoptioncouncil.org/event/liac-member-meeting/
LOCATION:HQ Plaza\, 5307 W Loop 289\, Lubbock\, TX\, 79414
CATEGORIES:LIAC Member Meetings
ATTACH;FMTTYPE=image/jpeg:https://lubbockadoptioncouncil.org/wp-content/uploads/2024/02/LIAC-Member-Meeting.jpg
END:VEVENT
BEGIN:VEVENT
DTSTART;TZID=America/Chicago:20240312T140000
DTEND;TZID=America/Chicago:20240312T150000
DTSTAMP:20260423T181923
CREATED:20240218T122139Z
LAST-MODIFIED:20240218T203902Z
UID:148-1710252000-1710255600@lubbockadoptioncouncil.org
SUMMARY:LIAC Member Meeting
DESCRIPTION:Members of LIAC meet monthly on the second Tuesday to share updates and plan for upcoming events. \nMeeting Room A is on the first floor of HQ Plaza.
URL:https://lubbockadoptioncouncil.org/event/liac-member-meeting/
LOCATION:HQ Plaza\, 5307 W Loop 289\, Lubbock\, TX\, 79414
CATEGORIES:LIAC Member Meetings
ATTACH;FMTTYPE=image/jpeg:https://lubbockadoptioncouncil.org/wp-content/uploads/2024/02/LIAC-Member-Meeting.jpg
END:VEVENT
BEGIN:VEVENT
DTSTART;TZID=America/Chicago:20240312T140000
DTEND;TZID=America/Chicago:20240312T150000
DTSTAMP:20260423T181923
CREATED:20240218T122139Z
LAST-MODIFIED:20240218T203902Z
UID:148-1710252000-1710255600@lubbockadoptioncouncil.org
SUMMARY:LIAC Member Meeting
DESCRIPTION:Members of LIAC meet monthly on the second Tuesday to share updates and plan for upcoming events. \nMeeting Room A is on the first floor of HQ Plaza.
URL:https://lubbockadoptioncouncil.org/event/liac-member-meeting/
LOCATION:HQ Plaza\, 5307 W Loop 289\, Lubbock\, TX\, 79414
CATEGORIES:LIAC Member Meetings
ATTACH;FMTTYPE=image/jpeg:https://lubbockadoptioncouncil.org/wp-content/uploads/2024/02/LIAC-Member-Meeting.jpg
END:VEVENT
BEGIN:VEVENT
DTSTART;TZID=America/Chicago:20240312T140000
DTEND;TZID=America/Chicago:20240312T150000
DTSTAMP:20260423T181923
CREATED:20240218T122139Z
LAST-MODIFIED:20240218T203902Z
UID:148-1710252000-1710255600@lubbockadoptioncouncil.org
SUMMARY:LIAC Member Meeting
DESCRIPTION:Members of LIAC meet monthly on the second Tuesday to share updates and plan for upcoming events. \nMeeting Room A is on the first floor of HQ Plaza.
URL:https://lubbockadoptioncouncil.org/event/liac-member-meeting/
LOCATION:HQ Plaza\, 5307 W Loop 289\, Lubbock\, TX\, 79414
CATEGORIES:LIAC Member Meetings
ATTACH;FMTTYPE=image/jpeg:https://lubbockadoptioncouncil.org/wp-content/uploads/2024/02/LIAC-Member-Meeting.jpg
END:VEVENT
END:VCALENDAR