BEGIN:VCALENDAR
VERSION:2.0
PRODID:-//Lubbock Interagency Adoption Council - ECPv6.15.20//NONSGML v1.0//EN
CALSCALE:GREGORIAN
METHOD:PUBLISH
X-WR-CALNAME:Lubbock Interagency Adoption Council
X-ORIGINAL-URL:https://lubbockadoptioncouncil.org
X-WR-CALDESC:Events for Lubbock Interagency Adoption Council
REFRESH-INTERVAL;VALUE=DURATION:PT1H
X-Robots-Tag:noindex
X-PUBLISHED-TTL:PT1H
BEGIN:VTIMEZONE
TZID:America/Chicago
BEGIN:DAYLIGHT
TZOFFSETFROM:-0600
TZOFFSETTO:-0500
TZNAME:CDT
DTSTART:20230312T080000
END:DAYLIGHT
BEGIN:STANDARD
TZOFFSETFROM:-0500
TZOFFSETTO:-0600
TZNAME:CST
DTSTART:20231105T070000
END:STANDARD
BEGIN:DAYLIGHT
TZOFFSETFROM:-0600
TZOFFSETTO:-0500
TZNAME:CDT
DTSTART:20240310T080000
END:DAYLIGHT
BEGIN:STANDARD
TZOFFSETFROM:-0500
TZOFFSETTO:-0600
TZNAME:CST
DTSTART:20241103T070000
END:STANDARD
BEGIN:DAYLIGHT
TZOFFSETFROM:-0600
TZOFFSETTO:-0500
TZNAME:CDT
DTSTART:20250309T080000
END:DAYLIGHT
BEGIN:STANDARD
TZOFFSETFROM:-0500
TZOFFSETTO:-0600
TZNAME:CST
DTSTART:20251102T070000
END:STANDARD
END:VTIMEZONE
BEGIN:VEVENT
DTSTART;TZID=America/Chicago:20240302T090000
DTEND;TZID=America/Chicago:20240302T140000
DTSTAMP:20260423T132716
CREATED:20240219T231906Z
LAST-MODIFIED:20240220T001218Z
UID:259-1709370000-1709388000@lubbockadoptioncouncil.org
SUMMARY:Buckner Prepare to Care Training
DESCRIPTION:Buckner will begin a new Pre-Service Training class on March 2\, 2024. To register\, please contact Stephanie Calderon scalderon@buckner.org. \n\n\n\nPrepare to Care\n\n\n\nDay 1: Saturday\, March 2\, 2024 (9am-2pm)Day 2: Tuesday\, March 5\, 2024 (6-9pm)Day 3: Thursday\, March 7\, 2024 (6-9pm)
URL:https://lubbockadoptioncouncil.org/event/buckner-prepare-to-care-training-03-02-2024/
LOCATION:HQ Plaza\, 5307 W Loop 289\, Lubbock\, TX\, 79414
CATEGORIES:Training Dates
ORGANIZER;CN="Buckner":MAILTO:nlocker@buckner.org
END:VEVENT
BEGIN:VEVENT
DTSTART;TZID=America/Chicago:20240222T190000
DTEND;TZID=America/Chicago:20240222T200000
DTSTAMP:20260423T132716
CREATED:20240218T200940Z
LAST-MODIFIED:20240315T172508Z
UID:202-1708628400-1708632000@lubbockadoptioncouncil.org
SUMMARY:Buckner Virtual Information Meeting (Register Online)
DESCRIPTION:Learn about the process of becoming a foster parent or adopting through Buckner via this free online information meeting. Please fill out the form below to register. Attending a virtual information meeting is the first step in starting your foster care and adoption journey with Buckner. Attendance and completion of the virtual information meeting is required to proceed in the process for all Buckner foster care and adoption programs. \nIn an effort to best serve children and families\, we currently focus our domestic foster care and adoption services in the following cities (and surrounding counties) of Texas:  Amarillo\, Beaumont\, Dallas\, Fort Worth\, Longview\, Lufkin\, Lubbock\, Midland and Mission. \nRegister to attend at https://www.buckner.org/foster-care-adoption/events
URL:https://lubbockadoptioncouncil.org/event/buckner-virtual-information-meeting/
LOCATION:Virtual
CATEGORIES:Information Meetings
ATTACH;FMTTYPE=image/jpeg:https://lubbockadoptioncouncil.org/wp-content/uploads/2024/02/buckner-info-meeting-graphic.jpeg
ORGANIZER;CN="Buckner":MAILTO:nlocker@buckner.org
END:VEVENT
BEGIN:VEVENT
DTSTART;TZID=America/Chicago:20240311T183000
DTEND;TZID=America/Chicago:20240311T193000
DTSTAMP:20260423T132716
CREATED:20240220T200651Z
LAST-MODIFIED:20240220T200831Z
UID:337-1710181800-1710185400@lubbockadoptioncouncil.org
SUMMARY:Information Meeting - General (Registration Required)
DESCRIPTION:Lubbock Area Foster Care and Adoption Information Session \nJoin us for an online information session about foster care and adoption in the Lubbock area! Whether you’re considering becoming a foster parent or looking to adopt\, this session is for you. Learn about the process\, requirements\, and support available. Our knowledgeable team will be there to answer all your questions and provide valuable resources. Don’t miss this opportunity to make a difference in a child’s life! Register now to secure your spot. \nVarious agencies will be represented at this meeting. \nRegister at https://www.eventbrite.com/e/lubbock-area-foster-care-and-adoption-information-session-tickets-796876668567
URL:https://lubbockadoptioncouncil.org/event/information-meeting-general-03-11-2024/
LOCATION:Virtual
CATEGORIES:Information Meetings
ATTACH;FMTTYPE=image/jpeg:https://lubbockadoptioncouncil.org/wp-content/uploads/2024/02/Info-meeting-SSCC.jpg
END:VEVENT
BEGIN:VEVENT
DTSTART;TZID=America/Chicago:20240312T140000
DTEND;TZID=America/Chicago:20240312T150000
DTSTAMP:20260423T132716
CREATED:20240218T122139Z
LAST-MODIFIED:20240218T203902Z
UID:148-1710252000-1710255600@lubbockadoptioncouncil.org
SUMMARY:LIAC Member Meeting
DESCRIPTION:Members of LIAC meet monthly on the second Tuesday to share updates and plan for upcoming events. \nMeeting Room A is on the first floor of HQ Plaza.
URL:https://lubbockadoptioncouncil.org/event/liac-member-meeting/
LOCATION:HQ Plaza\, 5307 W Loop 289\, Lubbock\, TX\, 79414
CATEGORIES:LIAC Member Meetings
ATTACH;FMTTYPE=image/jpeg:https://lubbockadoptioncouncil.org/wp-content/uploads/2024/02/LIAC-Member-Meeting.jpg
END:VEVENT
BEGIN:VEVENT
DTSTART;TZID=America/Chicago:20240318T180000
DTEND;TZID=America/Chicago:20240318T200000
DTSTAMP:20260423T132716
CREATED:20240220T173409Z
LAST-MODIFIED:20240220T173736Z
UID:297-1710784800-1710792000@lubbockadoptioncouncil.org
SUMMARY:DePelchin Information Meeting
DESCRIPTION:During the Orientation\, we will walk you through the process of fostering\, or fostering with the hope of adopting a child or children in foster care. You will have the opportunity to ask any questions you may have about fostering or adopting a child or children in need\, in addition to meeting other families who are interested in becoming foster or adoptive parents. \nThere are many steps designed by the state child welfare system to qualify families to be licensed as a foster or adoptive home. We work within these requirements and bring expertise and added support to help you navigate the system. All our families are trained and licensed for both foster care and adoption. Though some families within our community desire only to foster and others might have the goal of adoption\, we find it most efficient and practical for our families to be dual licensed as we have seen the outcome of cases change as well as family’s desires transform. We want to be prepared for all outcomes and make the process as seamless as possible. \nBelow is the link to join the orientation: \nJoin Zoom Meeting: https://depelchin.zoom.us/j/99257688470?pwd=b2xvUEozSTdnNUxDckZvRWZ4WWNjZz09 \nMeeting ID: 992 5768 8470 \nPasscode: 789131 \nOne tap mobile: +13462487799 US (Houston) \nZoom is free video conferencing service available on the Internet. Click here to learn how to join a meeting: https://support.zoom.us/hc/en-us/articles/201362193-How-Do-I-Join-A-Meeting- \nIf you have technical difficulties\, please email GettingStarted@DePelchin.org
URL:https://lubbockadoptioncouncil.org/event/depelchin-information-meeting-03-18-2024/
LOCATION:Virtual
CATEGORIES:Information Meetings
ATTACH;FMTTYPE=image/png:https://lubbockadoptioncouncil.org/wp-content/uploads/2024/02/DePelchin-orientation-768x402-1.png
END:VEVENT
BEGIN:VEVENT
DTSTART;TZID=America/Chicago:20240319T173000
DTEND;TZID=America/Chicago:20240319T193000
DTSTAMP:20260423T132716
CREATED:20240220T203051Z
LAST-MODIFIED:20240220T203051Z
UID:344-1710869400-1710876600@lubbockadoptioncouncil.org
SUMMARY:Foster A Life Prom Expo
DESCRIPTION:Foster youth\, come by and pick out the perfect outfit for your next formal event! Prom/banquet dresses\, shoes\, and accessories will be available. Food and drinks will be provided.
URL:https://lubbockadoptioncouncil.org/event/foster-a-life-prom-expo/
LOCATION:Foster A Life\, 10 Briercroft Office Park\, Lubbock\, TX\, 79412
ATTACH;FMTTYPE=image/png:https://lubbockadoptioncouncil.org/wp-content/uploads/2024/02/FAL-prom-expo.png
ORGANIZER;CN="Foster A Life":MAILTO:fosteralife@att.net
END:VEVENT
BEGIN:VEVENT
DTSTART;TZID=America/Chicago:20240222T190000
DTEND;TZID=America/Chicago:20240222T200000
DTSTAMP:20260423T132716
CREATED:20240218T200940Z
LAST-MODIFIED:20240315T172508Z
UID:202-1708628400-1708632000@lubbockadoptioncouncil.org
SUMMARY:Buckner Virtual Information Meeting (Register Online)
DESCRIPTION:Learn about the process of becoming a foster parent or adopting through Buckner via this free online information meeting. Please fill out the form below to register. Attending a virtual information meeting is the first step in starting your foster care and adoption journey with Buckner. Attendance and completion of the virtual information meeting is required to proceed in the process for all Buckner foster care and adoption programs. \nIn an effort to best serve children and families\, we currently focus our domestic foster care and adoption services in the following cities (and surrounding counties) of Texas:  Amarillo\, Beaumont\, Dallas\, Fort Worth\, Longview\, Lufkin\, Lubbock\, Midland and Mission. \nRegister to attend at https://www.buckner.org/foster-care-adoption/events
URL:https://lubbockadoptioncouncil.org/event/buckner-virtual-information-meeting/
LOCATION:Virtual
CATEGORIES:Information Meetings
ATTACH;FMTTYPE=image/jpeg:https://lubbockadoptioncouncil.org/wp-content/uploads/2024/02/buckner-info-meeting-graphic.jpeg
ORGANIZER;CN="Buckner":MAILTO:nlocker@buckner.org
END:VEVENT
BEGIN:VEVENT
DTSTART;TZID=America/Chicago:20240325T180000
DTEND;TZID=America/Chicago:20240325T200000
DTSTAMP:20260423T132716
CREATED:20240220T173631Z
LAST-MODIFIED:20240220T173631Z
UID:299-1711389600-1711396800@lubbockadoptioncouncil.org
SUMMARY:DePelchin Information Meeting
DESCRIPTION:During the Orientation\, we will walk you through the process of fostering\, or fostering with the hope of adopting a child or children in foster care. You will have the opportunity to ask any questions you may have about fostering or adopting a child or children in need\, in addition to meeting other families who are interested in becoming foster or adoptive parents. \nThere are many steps designed by the state child welfare system to qualify families to be licensed as a foster or adoptive home. We work within these requirements and bring expertise and added support to help you navigate the system. All our families are trained and licensed for both foster care and adoption. Though some families within our community desire only to foster and others might have the goal of adoption\, we find it most efficient and practical for our families to be dual licensed as we have seen the outcome of cases change as well as family’s desires transform. We want to be prepared for all outcomes and make the process as seamless as possible. \nBelow is the link to join the orientation: \nJoin Zoom Meeting \nhttps://depelchin.zoom.us/j/99257688470?pwd=b2xvUEozSTdnNUxDckZvRWZ4WWNjZz09 \nMeeting ID: 992 5768 8470 \nPasscode: 789131 \nOne tap mobile: +13462487799 US (Houston) \nZoom is free video conferencing service available on the Internet. Click here to learn how to join a meeting: https://support.zoom.us/hc/en-us/articles/201362193-How-Do-I-Join-A-Meeting- \nIf you have technical difficulties\, please email GettingStarted@DePelchin.org
URL:https://lubbockadoptioncouncil.org/event/depelchin-information-meeting/
LOCATION:Virtual
CATEGORIES:Information Meetings
ATTACH;FMTTYPE=image/png:https://lubbockadoptioncouncil.org/wp-content/uploads/2024/02/DePelchin-orientation-768x402-1.png
END:VEVENT
END:VCALENDAR