BEGIN:VCALENDAR
VERSION:2.0
PRODID:-//Lubbock Interagency Adoption Council - ECPv6.15.20//NONSGML v1.0//EN
CALSCALE:GREGORIAN
METHOD:PUBLISH
X-ORIGINAL-URL:https://lubbockadoptioncouncil.org
X-WR-CALDESC:Events for Lubbock Interagency Adoption Council
REFRESH-INTERVAL;VALUE=DURATION:PT1H
X-Robots-Tag:noindex
X-PUBLISHED-TTL:PT1H
BEGIN:VTIMEZONE
TZID:America/Chicago
BEGIN:DAYLIGHT
TZOFFSETFROM:-0600
TZOFFSETTO:-0500
TZNAME:CDT
DTSTART:20230312T080000
END:DAYLIGHT
BEGIN:STANDARD
TZOFFSETFROM:-0500
TZOFFSETTO:-0600
TZNAME:CST
DTSTART:20231105T070000
END:STANDARD
BEGIN:DAYLIGHT
TZOFFSETFROM:-0600
TZOFFSETTO:-0500
TZNAME:CDT
DTSTART:20240310T080000
END:DAYLIGHT
BEGIN:STANDARD
TZOFFSETFROM:-0500
TZOFFSETTO:-0600
TZNAME:CST
DTSTART:20241103T070000
END:STANDARD
BEGIN:DAYLIGHT
TZOFFSETFROM:-0600
TZOFFSETTO:-0500
TZNAME:CDT
DTSTART:20250309T080000
END:DAYLIGHT
BEGIN:STANDARD
TZOFFSETFROM:-0500
TZOFFSETTO:-0600
TZNAME:CST
DTSTART:20251102T070000
END:STANDARD
END:VTIMEZONE
BEGIN:VEVENT
DTSTART;TZID=America/Chicago:20240222T190000
DTEND;TZID=America/Chicago:20240222T200000
DTSTAMP:20260423T150508
CREATED:20240218T200940Z
LAST-MODIFIED:20240315T172508Z
UID:202-1708628400-1708632000@lubbockadoptioncouncil.org
SUMMARY:Buckner Virtual Information Meeting (Register Online)
DESCRIPTION:Learn about the process of becoming a foster parent or adopting through Buckner via this free online information meeting. Please fill out the form below to register. Attending a virtual information meeting is the first step in starting your foster care and adoption journey with Buckner. Attendance and completion of the virtual information meeting is required to proceed in the process for all Buckner foster care and adoption programs. \nIn an effort to best serve children and families\, we currently focus our domestic foster care and adoption services in the following cities (and surrounding counties) of Texas:  Amarillo\, Beaumont\, Dallas\, Fort Worth\, Longview\, Lufkin\, Lubbock\, Midland and Mission. \nRegister to attend at https://www.buckner.org/foster-care-adoption/events
URL:https://lubbockadoptioncouncil.org/event/buckner-virtual-information-meeting/
LOCATION:Virtual
CATEGORIES:Information Meetings
ATTACH;FMTTYPE=image/jpeg:https://lubbockadoptioncouncil.org/wp-content/uploads/2024/02/buckner-info-meeting-graphic.jpeg
ORGANIZER;CN="Buckner":MAILTO:nlocker@buckner.org
END:VEVENT
BEGIN:VEVENT
DTSTART;TZID=America/Chicago:20240408T180000
DTEND;TZID=America/Chicago:20240408T200000
DTSTAMP:20260423T150508
CREATED:20240220T174009Z
LAST-MODIFIED:20240220T174009Z
UID:301-1712599200-1712606400@lubbockadoptioncouncil.org
SUMMARY:DePelchin Information Meeting
DESCRIPTION:During the Orientation\, we will walk you through the process of fostering\, or fostering with the hope of adopting a child or children in foster care. You will have the opportunity to ask any questions you may have about fostering or adopting a child or children in need\, in addition to meeting other families who are interested in becoming foster or adoptive parents. \nThere are many steps designed by the state child welfare system to qualify families to be licensed as a foster or adoptive home. We work within these requirements and bring expertise and added support to help you navigate the system. All our families are trained and licensed for both foster care and adoption. Though some families within our community desire only to foster and others might have the goal of adoption\, we find it most efficient and practical for our families to be dual licensed as we have seen the outcome of cases change as well as family’s desires transform. We want to be prepared for all outcomes and make the process as seamless as possible. \nBelow is the link to join the orientation: \nJoin Zoom Meeting \nhttps://depelchin.zoom.us/j/99257688470?pwd=b2xvUEozSTdnNUxDckZvRWZ4WWNjZz09 \nMeeting ID: 992 5768 8470 \nPasscode: 789131 \nOne tap mobile: +13462487799 US (Houston) \nZoom is free video conferencing service available on the Internet. Click here to learn how to join a meeting: https://support.zoom.us/hc/en-us/articles/201362193-How-Do-I-Join-A-Meeting- \nIf you have technical difficulties\, please email GettingStarted@DePelchin.org
URL:https://lubbockadoptioncouncil.org/event/depelchin-information-meeting-04-08-2024/
LOCATION:Virtual
CATEGORIES:Information Meetings
ATTACH;FMTTYPE=image/png:https://lubbockadoptioncouncil.org/wp-content/uploads/2024/02/DePelchin-orientation-768x402-1.png
END:VEVENT
BEGIN:VEVENT
DTSTART;TZID=America/Chicago:20240312T140000
DTEND;TZID=America/Chicago:20240312T150000
DTSTAMP:20260423T150508
CREATED:20240218T122139Z
LAST-MODIFIED:20240218T203902Z
UID:148-1710252000-1710255600@lubbockadoptioncouncil.org
SUMMARY:LIAC Member Meeting
DESCRIPTION:Members of LIAC meet monthly on the second Tuesday to share updates and plan for upcoming events. \nMeeting Room A is on the first floor of HQ Plaza.
URL:https://lubbockadoptioncouncil.org/event/liac-member-meeting/
LOCATION:HQ Plaza\, 5307 W Loop 289\, Lubbock\, TX\, 79414
CATEGORIES:LIAC Member Meetings
ATTACH;FMTTYPE=image/jpeg:https://lubbockadoptioncouncil.org/wp-content/uploads/2024/02/LIAC-Member-Meeting.jpg
END:VEVENT
BEGIN:VEVENT
DTSTART;TZID=America/Chicago:20240418T120000
DTEND;TZID=America/Chicago:20240418T130000
DTSTAMP:20260423T150508
CREATED:20240220T201253Z
LAST-MODIFIED:20240222T195123Z
UID:342-1713441600-1713445200@lubbockadoptioncouncil.org
SUMMARY:Information Meeting - General (Registration Required)
DESCRIPTION:Lubbock Area Foster Care and Adoption Information Session \nJoin us for an online information session about foster care and adoption in the Lubbock area! Whether you’re considering becoming a foster parent or looking to adopt\, this session is for you. Learn about the process\, requirements\, and support available. Our knowledgeable team will be there to answer all your questions and provide valuable resources. Don’t miss this opportunity to make a difference in a child’s life! Register now to secure your spot. \nVarious agencies will be represented at this meeting. \nRegister at https://www.eventbrite.com/e/lubbock-area-foster-care-and-adoption-information-session-tickets-796894190977
URL:https://lubbockadoptioncouncil.org/event/information-meeting-general-04-18-2024/
LOCATION:Virtual
CATEGORIES:Information Meetings
ATTACH;FMTTYPE=image/jpeg:https://lubbockadoptioncouncil.org/wp-content/uploads/2024/02/Info-meeting-SSCC.jpg
END:VEVENT
BEGIN:VEVENT
DTSTART;TZID=America/Chicago:20240222T190000
DTEND;TZID=America/Chicago:20240222T200000
DTSTAMP:20260423T150508
CREATED:20240218T200940Z
LAST-MODIFIED:20240315T172508Z
UID:202-1708628400-1708632000@lubbockadoptioncouncil.org
SUMMARY:Buckner Virtual Information Meeting (Register Online)
DESCRIPTION:Learn about the process of becoming a foster parent or adopting through Buckner via this free online information meeting. Please fill out the form below to register. Attending a virtual information meeting is the first step in starting your foster care and adoption journey with Buckner. Attendance and completion of the virtual information meeting is required to proceed in the process for all Buckner foster care and adoption programs. \nIn an effort to best serve children and families\, we currently focus our domestic foster care and adoption services in the following cities (and surrounding counties) of Texas:  Amarillo\, Beaumont\, Dallas\, Fort Worth\, Longview\, Lufkin\, Lubbock\, Midland and Mission. \nRegister to attend at https://www.buckner.org/foster-care-adoption/events
URL:https://lubbockadoptioncouncil.org/event/buckner-virtual-information-meeting/
LOCATION:Virtual
CATEGORIES:Information Meetings
ATTACH;FMTTYPE=image/jpeg:https://lubbockadoptioncouncil.org/wp-content/uploads/2024/02/buckner-info-meeting-graphic.jpeg
ORGANIZER;CN="Buckner":MAILTO:nlocker@buckner.org
END:VEVENT
BEGIN:VEVENT
DTSTART;TZID=America/Chicago:20240420T090000
DTEND;TZID=America/Chicago:20240420T110000
DTSTAMP:20260423T150508
CREATED:20240312T222817Z
LAST-MODIFIED:20240312T222817Z
UID:407-1713603600-1713610800@lubbockadoptioncouncil.org
SUMMARY:Lubbock Area Adoptive Family Support Group
DESCRIPTION:Everyone who has adopted or has PMC of their children is welcome. No matter where you adopted from\, you are welcome. \nChildcare will be provided. \nClick here to register.
URL:https://lubbockadoptioncouncil.org/event/lubbock-area-adoptive-family-support-group/
LOCATION:Indiana Baptist Church\, 9507 Indiana Ave\, Lubbock\, TX\, 79423
END:VEVENT
BEGIN:VEVENT
DTSTART;TZID=America/Chicago:20240422T180000
DTEND;TZID=America/Chicago:20240422T200000
DTSTAMP:20260423T150508
CREATED:20240220T174152Z
LAST-MODIFIED:20240220T174152Z
UID:303-1713808800-1713816000@lubbockadoptioncouncil.org
SUMMARY:DePelchin Information Meeting
DESCRIPTION:
URL:https://lubbockadoptioncouncil.org/event/depelchin-information-meeting-04-22-2024/
LOCATION:Virtual
CATEGORIES:Information Meetings
ATTACH;FMTTYPE=image/png:https://lubbockadoptioncouncil.org/wp-content/uploads/2024/02/DePelchin-orientation-768x402-1.png
END:VEVENT
BEGIN:VEVENT
DTSTART;TZID=America/Chicago:20240427T080000
DTEND;TZID=America/Chicago:20240427T110000
DTSTAMP:20260423T150508
CREATED:20240219T225742Z
LAST-MODIFIED:20240220T123218Z
UID:252-1714204800-1714215600@lubbockadoptioncouncil.org
SUMMARY:Foster A Life Home Run
DESCRIPTION:Event Cost:  \n\nFree to attend this family-friendly event!\n$10 per person to run/jog/walk (T-shirt provided to first 300 runners!)\n\nThere are hundreds of children in the Lubbock area receiving services from Texas Department of Family and Social Services (DFPS). Some of these children can remain with family members\, but many others are placed in foster homes. The HOME RUN is an event that HONORS these children who have been abused and /or neglected. This event shows these children that there are people who care! The HOME RUN also brings awareness of the need for foster homes in the Lubbock area. There continues to be a critical shortage of foster homes in the Lubbock area. Child Placing Agencies are participating in this event so you can obtain information about how to become a foster parent! Charities that focus on children and are involved with DFPS are also participating so you can learn about other ways you can help these children. In addition\, agencies and businesses that care about these children will be there. \n\n\n\nThe HOME RUN includes a fun run\, fun family activities\, art activities and delicious food for purchase. The activities are provided by the Child Placing Agencies as well as the businesses and charitable organizations. \n\n\n\nFoster*A*Life\, the host of this event\, provides services and opportunities for children who are involved or have been involved with DFPS in Lubbock County as well as 17 surrounding counties. \n\n\n\nRegistration begins at 8:00 AM and the fun run begins at 9:00 AM. The event ends at 11:00 AM! This is a 4k route if you run the route twice. (This may be changed)! \n\n\n\nThe cost for the fun run is $10 for all ages until Friday\, April 26\, 2024 at 8:00 PM. On the day of the event\, Saturday\, April 27\, 2024\, the cost is $15 for all ages. THERE IS NO CHARGE TO PARTICIPATE IN THE ACTIVITIES!! THE FOOD VENDORS DETERMINE THEIR OWN PRICING. \n\n\n\nThe packet will include a T-Shirt for the first 300 participants. (A T-Shirt cannot be guaranteed for registrations after April 13\, 2024). \n\n\n\nEVENT IS RAIN OR SHINE! \n\n\n\nHELP US “HIT IT OUT OF THE PARK” TO FIND HOMES AND TO HONOR THESE CHILDREN!
URL:https://lubbockadoptioncouncil.org/event/home-run/
LOCATION:LHUCA\, 511 Ave K\, Lubbock\, TX\, 79401
ORGANIZER;CN="Foster A Life":MAILTO:fosteralife@att.net
END:VEVENT
END:VCALENDAR