BEGIN:VCALENDAR
VERSION:2.0
PRODID:-//Lubbock Interagency Adoption Council - ECPv6.15.20//NONSGML v1.0//EN
CALSCALE:GREGORIAN
METHOD:PUBLISH
X-WR-CALNAME:Lubbock Interagency Adoption Council
X-ORIGINAL-URL:https://lubbockadoptioncouncil.org
X-WR-CALDESC:Events for Lubbock Interagency Adoption Council
REFRESH-INTERVAL;VALUE=DURATION:PT1H
X-Robots-Tag:noindex
X-PUBLISHED-TTL:PT1H
BEGIN:VTIMEZONE
TZID:America/Chicago
BEGIN:DAYLIGHT
TZOFFSETFROM:-0600
TZOFFSETTO:-0500
TZNAME:CDT
DTSTART:20230312T080000
END:DAYLIGHT
BEGIN:STANDARD
TZOFFSETFROM:-0500
TZOFFSETTO:-0600
TZNAME:CST
DTSTART:20231105T070000
END:STANDARD
BEGIN:DAYLIGHT
TZOFFSETFROM:-0600
TZOFFSETTO:-0500
TZNAME:CDT
DTSTART:20240310T080000
END:DAYLIGHT
BEGIN:STANDARD
TZOFFSETFROM:-0500
TZOFFSETTO:-0600
TZNAME:CST
DTSTART:20241103T070000
END:STANDARD
BEGIN:DAYLIGHT
TZOFFSETFROM:-0600
TZOFFSETTO:-0500
TZNAME:CDT
DTSTART:20250309T080000
END:DAYLIGHT
BEGIN:STANDARD
TZOFFSETFROM:-0500
TZOFFSETTO:-0600
TZNAME:CST
DTSTART:20251102T070000
END:STANDARD
BEGIN:DAYLIGHT
TZOFFSETFROM:-0600
TZOFFSETTO:-0500
TZNAME:CDT
DTSTART:20260308T080000
END:DAYLIGHT
BEGIN:STANDARD
TZOFFSETFROM:-0500
TZOFFSETTO:-0600
TZNAME:CST
DTSTART:20261101T070000
END:STANDARD
END:VTIMEZONE
BEGIN:VEVENT
DTSTART;TZID=America/Chicago:20240312T140000
DTEND;TZID=America/Chicago:20240312T150000
DTSTAMP:20260423T234942
CREATED:20240218T122139Z
LAST-MODIFIED:20240218T203902Z
UID:148-1710252000-1710255600@lubbockadoptioncouncil.org
SUMMARY:LIAC Member Meeting
DESCRIPTION:Members of LIAC meet monthly on the second Tuesday to share updates and plan for upcoming events. \nMeeting Room A is on the first floor of HQ Plaza.
URL:https://lubbockadoptioncouncil.org/event/liac-member-meeting/
LOCATION:HQ Plaza\, 5307 W Loop 289\, Lubbock\, TX\, 79414
CATEGORIES:LIAC Member Meetings
ATTACH;FMTTYPE=image/jpeg:https://lubbockadoptioncouncil.org/wp-content/uploads/2024/02/LIAC-Member-Meeting.jpg
END:VEVENT
BEGIN:VEVENT
DTSTART;TZID=America/Chicago:20250812T140000
DTEND;TZID=America/Chicago:20250812T150000
DTSTAMP:20260423T234942
CREATED:20250713T013940Z
LAST-MODIFIED:20250713T013940Z
UID:534-1755007200-1755010800@lubbockadoptioncouncil.org
SUMMARY:LIAC Member Meeting
DESCRIPTION:Local Interagency Adoption Council (LIAC) Meetings🗓 Held Every 2nd Tuesday of the Month \nJoin us for our monthly Local Interagency Adoption Council (LIAC) meetings\, where agencies\, professionals\, and community members come together to collaborate\, share resources\, and strengthen adoption and permanency support in our region. \nInterested in attending as a guest speaker?Please contact Nicky Locker at nlocker@buckner.org. \nInterested in becoming a member of LIAC?Membership requests can be submitted to rjohnston@childshome.org. Please complete the required forms\, available at https://lubbockadoptioncouncil.org/bylaws/.
URL:https://lubbockadoptioncouncil.org/event/liac-member-meeting-2/
LOCATION:HQ Plaza\, 5307 W Loop 289\, Lubbock\, TX\, 79414
CATEGORIES:LIAC Member Meetings
ATTACH;FMTTYPE=image/jpeg:https://lubbockadoptioncouncil.org/wp-content/uploads/2024/02/LIAC-square-logo.jpg
END:VEVENT
BEGIN:VEVENT
DTSTART;TZID=America/Chicago:20250816T080000
DTEND;TZID=America/Chicago:20250816T120000
DTSTAMP:20260423T234942
CREATED:20250315T225311Z
LAST-MODIFIED:20250713T013246Z
UID:513-1755331200-1755345600@lubbockadoptioncouncil.org
SUMMARY:The Home Run
DESCRIPTION:There are thousands of children in the Lubbock area receiving services from Texas Department of Family and Social Services (DFPS). Some of these children can remain with family members\, but many others are placed in foster homes. The HOME RUN is an event that HONORS these children who have been abused and /or neglected. This event shows these children that there are people who care! The HOME RUN also brings awareness of the need for foster homes in the Lubbock area. There continues to be a critical shortage of foster homes in the Lubbock area. Child Placing Agencies are participating in this event so you can obtain information about how to become a foster parent! Charities that focus on children and are involved with DFPS are also participating so you can learn about other ways you can help these children! In addition\, agencies and businesses that care about these children will be there! \nThe HOME RUN includes a fun run\, fun family activities\, art activities and delicious food for purchase! The activities are provided by the Child Placing Agencies as well as the businesses and charitable organizations! \nFoster*A*Life is sponsoring this year’s event for the Lubbock Inter-Agency Adoption Council (LIAC). LIAC is a collaboration of the child placing agencies offering Foster and Adoption services in the Lubbock area. Together they promote awareness of adoption and recruit for much needed foster and adoptive families. \nFoster*A*Life provides services and opportunities for children who are involved or have been involved with DFPS in Lubbock County as well as 17 surrounding counties. \nRegistration begins at 8:00 AM and the fun run begins at 9:00 AM. The event ends at 11:00 AM! This is a 4k route if you run the route twice! (This may be changed)! \nThe cost for the fun run is $10 for all ages until Friday\, August 12\, 2025 at 8:00 PM. On the day of the event\, Saturday\, August 15\, 2025\, the cost is $15 for all ages. THERE IS NO CHARGE TO PARTICIPATE IN THE ACTIVITIES!! THE FOOD VENDORS DETERMINE THEIR OWN PRICING! \nThe packet will include a T-Shirt for the first 300 participants. (A T-Shirt cannot be guaranteed for registrations after July 30\, 2025. T-SHIRTS WILL BE DISTRIBUTED THE DAY OF THE EVENT ONLY. IF YOU ARE NOT AT THE EVENT\, YOU WILL NOT GET A T-SHIRT) \nEVENT IS RAIN OR SHINE! \nHELP US “HIT IT OUT OF THE PARK” TO FIND HOMES AND TO HONOR THESE CHILDREN!
URL:https://lubbockadoptioncouncil.org/event/the-home-run/
LOCATION:LHUCA\, 511 Ave K\, Lubbock\, TX\, 79401
ATTACH;FMTTYPE=image/png:https://lubbockadoptioncouncil.org/wp-content/uploads/2025/03/Screen-Shot-2025-03-15-at-5.46.01-PM.png
END:VEVENT
END:VCALENDAR